View In:
ArcMap
Google Earth
ArcGIS JavaScript
ArcGIS.com Map
View Footprint In:
Google Earth
Service Description: Digital Orthoimagery Series of Boundary County, Idaho (2009, 1-foot, Natural Color)
Name: IIDATA/imageryBaseMapsEarthCover/2009_1ft_boundaryCounty
Description: Digital Orthoimagery Series of Boundary County, Idaho (2009, 1-foot, Natural Color)
Extent:
XMin: 2270677.46160698
YMin: 1928877.82281685
XMax: 2399770.4207592
YMax: 1999874.74407387
Spatial Reference: 102605
Pixel Size X: 0.3
Pixel Size Y: 0.3
Band Count: 3
Pixel Type: U8
Min Pixel Size: 0
Maximum Pixel Size: 0
Copyright Text:
Service Data Type: esriImageServiceDataTypeRGB
Min Values:
Max Values:
Mean Values:
Standard Deviation Values:
Object ID Field:
Fields:
Supported Interfaces:
REST
SOAP
WMS
WCS
Supported Operations:
Export Image
Identify